BEGIN:VCALENDAR
VERSION:2.0
PRODID:-//Klub českých velocipedistů v Hrabové - ECPv6.15.20//NONSGML v1.0//EN
CALSCALE:GREGORIAN
METHOD:PUBLISH
X-WR-CALNAME:Klub českých velocipedistů v Hrabové
X-ORIGINAL-URL:https://www.kcvhrabova.cz
X-WR-CALDESC:Akce na Klub českých velocipedistů v Hrabové
REFRESH-INTERVAL;VALUE=DURATION:PT1H
X-Robots-Tag:noindex
X-PUBLISHED-TTL:PT1H
BEGIN:VTIMEZONE
TZID:Europe/Prague
BEGIN:DAYLIGHT
TZOFFSETFROM:+0100
TZOFFSETTO:+0200
TZNAME:CEST
DTSTART:20240331T010000
END:DAYLIGHT
BEGIN:STANDARD
TZOFFSETFROM:+0200
TZOFFSETTO:+0100
TZNAME:CET
DTSTART:20241027T010000
END:STANDARD
BEGIN:DAYLIGHT
TZOFFSETFROM:+0100
TZOFFSETTO:+0200
TZNAME:CEST
DTSTART:20250330T010000
END:DAYLIGHT
BEGIN:STANDARD
TZOFFSETFROM:+0200
TZOFFSETTO:+0100
TZNAME:CET
DTSTART:20251026T010000
END:STANDARD
BEGIN:DAYLIGHT
TZOFFSETFROM:+0100
TZOFFSETTO:+0200
TZNAME:CEST
DTSTART:20260329T010000
END:DAYLIGHT
BEGIN:STANDARD
TZOFFSETFROM:+0200
TZOFFSETTO:+0100
TZNAME:CET
DTSTART:20261025T010000
END:STANDARD
END:VTIMEZONE
BEGIN:VEVENT
DTSTART;TZID=Europe/Prague:20250628T000000
DTEND;TZID=Europe/Prague:20250701T235959
DTSTAMP:20260420T044409
CREATED:20250331T180156Z
LAST-MODIFIED:20250331T182037Z
UID:1920-1751068800-1751414399@www.kcvhrabova.cz
SUMMARY:IVCA Rally 2025\, Sully-sur-Loire\, Francie
DESCRIPTION:Více infomací a registrace na www.ivca2025.com
URL:https://www.kcvhrabova.cz/akce/ivca-rally-2025-sully-sur-loire-francie/
END:VEVENT
BEGIN:VEVENT
DTSTART;TZID=Europe/Prague:20250719T000000
DTEND;TZID=Europe/Prague:20250719T235959
DTSTAMP:20260420T044409
CREATED:20250523T085357Z
LAST-MODIFIED:20250523T085359Z
UID:1963-1752883200-1752969599@www.kcvhrabova.cz
SUMMARY:Klání seniorů v Hrabové
DESCRIPTION:Účast klubu
URL:https://www.kcvhrabova.cz/akce/klani-senioru-v-hrabove/
END:VEVENT
BEGIN:VEVENT
DTSTART;TZID=Europe/Prague:20250726T050000
DTEND;TZID=Europe/Prague:20250726T180000
DTSTAMP:20260420T044409
CREATED:20250523T085539Z
LAST-MODIFIED:20250721T193452Z
UID:1965-1753506000-1753552800@www.kcvhrabova.cz
SUMMARY:Ostrava - Olomouc - Ostrava
DESCRIPTION:V sobotu 26.7. již tradičně vyrážíme s východem slunce v 5h10min od Českého domu v Ostravě – Vítkovicích na trať Ostrava – Olomouc – Ostrava.Kancelář závodu a přihlášení proběhne v pátek 25.7. od 17h v klubovně KČV. Doporučujeme se přihlásit do středy 23.7. aby bylo zajištěno\,že účastník v bude na seznamu závodníků a bude vytištěn diplom. Startovné 200\,- Kč. Doprovodná vozidla s řidičem a nosiči na kola jsou vítaná !!!Občerstvovací zastávky po trase: Proskovice\, Nová Horka\, Kunín\, Mankovice\, Odry\, Dobešov\, focení u větrné elektrárny\, Kozlov\, Olomouc kruh objezd a zpět přes Daskabáty (oběd U Matýska)\,Kozlov\,Fulnek do Hrabové na hřiště. Sraz v 18h u betonárky Beta na parkovišti a hromadný dojezd na hřiště! \n\n\n\nSTATNĚ VPŘED!
URL:https://www.kcvhrabova.cz/akce/ostrava-olomouc-ostrava-3/
END:VEVENT
END:VCALENDAR