BEGIN:VCALENDAR
VERSION:2.0
PRODID:-//Klub českých velocipedistů v Hrabové - ECPv6.15.20//NONSGML v1.0//EN
CALSCALE:GREGORIAN
METHOD:PUBLISH
X-WR-CALNAME:Klub českých velocipedistů v Hrabové
X-ORIGINAL-URL:https://www.kcvhrabova.cz
X-WR-CALDESC:Akce na Klub českých velocipedistů v Hrabové
REFRESH-INTERVAL;VALUE=DURATION:PT1H
X-Robots-Tag:noindex
X-PUBLISHED-TTL:PT1H
BEGIN:VTIMEZONE
TZID:Europe/Prague
BEGIN:DAYLIGHT
TZOFFSETFROM:+0100
TZOFFSETTO:+0200
TZNAME:CEST
DTSTART:20240331T010000
END:DAYLIGHT
BEGIN:STANDARD
TZOFFSETFROM:+0200
TZOFFSETTO:+0100
TZNAME:CET
DTSTART:20241027T010000
END:STANDARD
BEGIN:DAYLIGHT
TZOFFSETFROM:+0100
TZOFFSETTO:+0200
TZNAME:CEST
DTSTART:20250330T010000
END:DAYLIGHT
BEGIN:STANDARD
TZOFFSETFROM:+0200
TZOFFSETTO:+0100
TZNAME:CET
DTSTART:20251026T010000
END:STANDARD
BEGIN:DAYLIGHT
TZOFFSETFROM:+0100
TZOFFSETTO:+0200
TZNAME:CEST
DTSTART:20260329T010000
END:DAYLIGHT
BEGIN:STANDARD
TZOFFSETFROM:+0200
TZOFFSETTO:+0100
TZNAME:CET
DTSTART:20261025T010000
END:STANDARD
END:VTIMEZONE
BEGIN:VEVENT
DTSTART;TZID=Europe/Prague:20251108T130000
DTEND;TZID=Europe/Prague:20251108T170000
DTSTAMP:20260419T211657
CREATED:20251017T164017Z
LAST-MODIFIED:20251102T111847Z
UID:1992-1762606800-1762621200@www.kcvhrabova.cz
SUMMARY:Uzavírání cyklostezky
DESCRIPTION:ul.Domovská – 13.h Restaurace Stodola
URL:https://www.kcvhrabova.cz/akce/uzavirani-cyklostezky/
END:VEVENT
BEGIN:VEVENT
DTSTART;TZID=Europe/Prague:20251128T170000
DTEND;TZID=Europe/Prague:20251128T210000
DTSTAMP:20260419T211657
CREATED:20251017T164201Z
LAST-MODIFIED:20251017T164203Z
UID:1994-1764349200-1764363600@www.kcvhrabova.cz
SUMMARY:Členská schůze KČV v Hrabové
DESCRIPTION:Od 17h kulturní dům v Hrabové.
URL:https://www.kcvhrabova.cz/akce/clenska-schuze-kcv-v-hrabove/
END:VEVENT
END:VCALENDAR