BEGIN:VCALENDAR
VERSION:2.0
PRODID:-//Klub českých velocipedistů v Hrabové - ECPv6.15.20//NONSGML v1.0//EN
CALSCALE:GREGORIAN
METHOD:PUBLISH
X-WR-CALNAME:Klub českých velocipedistů v Hrabové
X-ORIGINAL-URL:https://www.kcvhrabova.cz
X-WR-CALDESC:Akce na Klub českých velocipedistů v Hrabové
REFRESH-INTERVAL;VALUE=DURATION:PT1H
X-Robots-Tag:noindex
X-PUBLISHED-TTL:PT1H
BEGIN:VTIMEZONE
TZID:Europe/Prague
BEGIN:DAYLIGHT
TZOFFSETFROM:+0100
TZOFFSETTO:+0200
TZNAME:CEST
DTSTART:20250330T010000
END:DAYLIGHT
BEGIN:STANDARD
TZOFFSETFROM:+0200
TZOFFSETTO:+0100
TZNAME:CET
DTSTART:20251026T010000
END:STANDARD
BEGIN:DAYLIGHT
TZOFFSETFROM:+0100
TZOFFSETTO:+0200
TZNAME:CEST
DTSTART:20260329T010000
END:DAYLIGHT
BEGIN:STANDARD
TZOFFSETFROM:+0200
TZOFFSETTO:+0100
TZNAME:CET
DTSTART:20261025T010000
END:STANDARD
BEGIN:DAYLIGHT
TZOFFSETFROM:+0100
TZOFFSETTO:+0200
TZNAME:CEST
DTSTART:20270328T010000
END:DAYLIGHT
BEGIN:STANDARD
TZOFFSETFROM:+0200
TZOFFSETTO:+0100
TZNAME:CET
DTSTART:20271031T010000
END:STANDARD
END:VTIMEZONE
BEGIN:VEVENT
DTSTART;TZID=Europe/Prague:20260503T000000
DTEND;TZID=Europe/Prague:20260503T235959
DTSTAMP:20260419T142941
CREATED:20260316T164856Z
LAST-MODIFIED:20260316T164857Z
UID:2058-1777766400-1777852799@www.kcvhrabova.cz
SUMMARY:GRACIA Orlová
DESCRIPTION:Účast členů klubu před startem poslední etapy v Orlové.
URL:https://www.kcvhrabova.cz/akce/gracia-orlova/
END:VEVENT
BEGIN:VEVENT
DTSTART;TZID=Europe/Prague:20260523T090000
DTEND;TZID=Europe/Prague:20260523T170000
DTSTAMP:20260419T142941
CREATED:20260316T165235Z
LAST-MODIFIED:20260316T165236Z
UID:2060-1779526800-1779555600@www.kcvhrabova.cz
SUMMARY:Veteran Rally Ostrava
DESCRIPTION:Účast členů klubu před startem (9:00h) veterán rallye.
URL:https://www.kcvhrabova.cz/akce/veteran-rally-ostrava/
END:VEVENT
END:VCALENDAR