BEGIN:VCALENDAR
VERSION:2.0
PRODID:-//Klub českých velocipedistů v Hrabové - ECPv6.15.20//NONSGML v1.0//EN
CALSCALE:GREGORIAN
METHOD:PUBLISH
X-ORIGINAL-URL:https://www.kcvhrabova.cz
X-WR-CALDESC:Akce na Klub českých velocipedistů v Hrabové
REFRESH-INTERVAL;VALUE=DURATION:PT1H
X-Robots-Tag:noindex
X-PUBLISHED-TTL:PT1H
BEGIN:VTIMEZONE
TZID:Europe/Prague
BEGIN:DAYLIGHT
TZOFFSETFROM:+0100
TZOFFSETTO:+0200
TZNAME:CEST
DTSTART:20250330T010000
END:DAYLIGHT
BEGIN:STANDARD
TZOFFSETFROM:+0200
TZOFFSETTO:+0100
TZNAME:CET
DTSTART:20251026T010000
END:STANDARD
BEGIN:DAYLIGHT
TZOFFSETFROM:+0100
TZOFFSETTO:+0200
TZNAME:CEST
DTSTART:20260329T010000
END:DAYLIGHT
BEGIN:STANDARD
TZOFFSETFROM:+0200
TZOFFSETTO:+0100
TZNAME:CET
DTSTART:20261025T010000
END:STANDARD
BEGIN:DAYLIGHT
TZOFFSETFROM:+0100
TZOFFSETTO:+0200
TZNAME:CEST
DTSTART:20270328T010000
END:DAYLIGHT
BEGIN:STANDARD
TZOFFSETFROM:+0200
TZOFFSETTO:+0100
TZNAME:CET
DTSTART:20271031T010000
END:STANDARD
END:VTIMEZONE
BEGIN:VEVENT
DTSTART;TZID=Europe/Prague:20260619T150000
DTEND;TZID=Europe/Prague:20260621T130000
DTSTAMP:20260419T160020
CREATED:20260225T200055Z
LAST-MODIFIED:20260316T165817Z
UID:2047-1781881200-1782046800@www.kcvhrabova.cz
SUMMARY:Oslavy 120.let KČV v Hrabové
DESCRIPTION:19.6.2026  \n\n\n\n– pátek\, odpoledne Příjezd účastníků akce\, přivítání na hřišti v Hrabové \n\n\n\n20.6.2026 \n\n\n\n-sobota\, 8:30 požehnání k bezpečné jízdě u kostelíku sv.Kateřiny\, focení9h odjezd na Šídlovec\, jeden okruh po náměstí\, kolem klubovny a vyzdobených garáží přes most směr Paskov– 10h cvičná štola Staříč– 12h Frýdek-Místek – zámek- náš stánek\, ukázka jízd\, prohlídky– náměstí oběd– Bazilika – prohlídka– 16h odjezd směr Ostrava přes park u zámku v Paskově do pivovaru\, prohlídka– 17h odjezd do Hrabové – zastávka u historické tramvaje\, prohlídka– 18h příjezd k KD Hrabová\, catering\, pivo\, občerstvení– 19h program v Kulturním domě: swingová kapela\, promítání videí klubu\, předání vlajky OČÚJV \n\n\n\n21.6.2026 \n\n\n\n– neděle – cykloburza na hřišti v Hrabové\, jen velo\, cyklo – guláš\, občerstvení
URL:https://www.kcvhrabova.cz/akce/oslavy-120-let-kcv-v-hrabove/
END:VEVENT
END:VCALENDAR