BEGIN:VCALENDAR
VERSION:2.0
PRODID:-//Klub českých velocipedistů v Hrabové - ECPv6.15.20//NONSGML v1.0//EN
CALSCALE:GREGORIAN
METHOD:PUBLISH
X-WR-CALNAME:Klub českých velocipedistů v Hrabové
X-ORIGINAL-URL:https://www.kcvhrabova.cz
X-WR-CALDESC:Akce na Klub českých velocipedistů v Hrabové
REFRESH-INTERVAL;VALUE=DURATION:PT1H
X-Robots-Tag:noindex
X-PUBLISHED-TTL:PT1H
BEGIN:VTIMEZONE
TZID:Europe/Prague
BEGIN:DAYLIGHT
TZOFFSETFROM:+0100
TZOFFSETTO:+0200
TZNAME:CEST
DTSTART:20230326T010000
END:DAYLIGHT
BEGIN:STANDARD
TZOFFSETFROM:+0200
TZOFFSETTO:+0100
TZNAME:CET
DTSTART:20231029T010000
END:STANDARD
BEGIN:DAYLIGHT
TZOFFSETFROM:+0100
TZOFFSETTO:+0200
TZNAME:CEST
DTSTART:20240331T010000
END:DAYLIGHT
BEGIN:STANDARD
TZOFFSETFROM:+0200
TZOFFSETTO:+0100
TZNAME:CET
DTSTART:20241027T010000
END:STANDARD
BEGIN:DAYLIGHT
TZOFFSETFROM:+0100
TZOFFSETTO:+0200
TZNAME:CEST
DTSTART:20250330T010000
END:DAYLIGHT
BEGIN:STANDARD
TZOFFSETFROM:+0200
TZOFFSETTO:+0100
TZNAME:CET
DTSTART:20251026T010000
END:STANDARD
BEGIN:DAYLIGHT
TZOFFSETFROM:+0100
TZOFFSETTO:+0200
TZNAME:CEST
DTSTART:20260329T010000
END:DAYLIGHT
BEGIN:STANDARD
TZOFFSETFROM:+0200
TZOFFSETTO:+0100
TZNAME:CET
DTSTART:20261025T010000
END:STANDARD
END:VTIMEZONE
BEGIN:VEVENT
DTSTART;TZID=Europe/Prague:20251231T090000
DTEND;TZID=Europe/Prague:20251231T160000
DTSTAMP:20260419T152840
CREATED:20251017T164331Z
LAST-MODIFIED:20251017T164332Z
UID:1996-1767171600-1767196800@www.kcvhrabova.cz
SUMMARY:Silvestrovský výšlap na Lysou horu
DESCRIPTION:Od 9h Malenovice\, parkoviště Rajská bouda.
URL:https://www.kcvhrabova.cz/akce/silvestrovsky-vyslap-na-lysou-horu-2/
END:VEVENT
BEGIN:VEVENT
DTSTART;TZID=Europe/Prague:20251216T160000
DTEND;TZID=Europe/Prague:20251216T200000
DTSTAMP:20260419T152840
CREATED:20251210T222300Z
LAST-MODIFIED:20251210T222302Z
UID:2032-1765900800-1765915200@www.kcvhrabova.cz
SUMMARY:Vánoční posezení v klubovně
DESCRIPTION:Vánoční posezení v klubovně již od 16h. Kdo má co donést vánočního\, tak donese. \n\n\n\nCukroví\, občerstvení\, výzdobu atd.
URL:https://www.kcvhrabova.cz/akce/vanocni-posezeni-v-klubovne/
END:VEVENT
BEGIN:VEVENT
DTSTART;TZID=Europe/Prague:20251214T170000
DTEND;TZID=Europe/Prague:20251214T190000
DTSTAMP:20260419T152840
CREATED:20251210T221540Z
LAST-MODIFIED:20251210T221542Z
UID:2030-1765731600-1765738800@www.kcvhrabova.cz
SUMMARY:Tradiční koledování ve věži.
DESCRIPTION:
URL:https://www.kcvhrabova.cz/akce/tradicni-koledovani-ve-vezi/
END:VEVENT
BEGIN:VEVENT
DTSTART;TZID=Europe/Prague:20251128T170000
DTEND;TZID=Europe/Prague:20251128T210000
DTSTAMP:20260419T152840
CREATED:20251017T164201Z
LAST-MODIFIED:20251017T164203Z
UID:1994-1764349200-1764363600@www.kcvhrabova.cz
SUMMARY:Členská schůze KČV v Hrabové
DESCRIPTION:Od 17h kulturní dům v Hrabové.
URL:https://www.kcvhrabova.cz/akce/clenska-schuze-kcv-v-hrabove/
END:VEVENT
BEGIN:VEVENT
DTSTART;TZID=Europe/Prague:20251108T130000
DTEND;TZID=Europe/Prague:20251108T170000
DTSTAMP:20260419T152840
CREATED:20251017T164017Z
LAST-MODIFIED:20251102T111847Z
UID:1992-1762606800-1762621200@www.kcvhrabova.cz
SUMMARY:Uzavírání cyklostezky
DESCRIPTION:ul.Domovská – 13.h Restaurace Stodola
URL:https://www.kcvhrabova.cz/akce/uzavirani-cyklostezky/
END:VEVENT
BEGIN:VEVENT
DTSTART;TZID=Europe/Prague:20251028T140000
DTEND;TZID=Europe/Prague:20251028T160000
DTSTAMP:20260419T152840
CREATED:20251017T164809Z
LAST-MODIFIED:20251027T174429Z
UID:2004-1761660000-1761667200@www.kcvhrabova.cz
SUMMARY:Kontrola stavu vysázené Lípy
DESCRIPTION:Kontrola stavu lípy\, zasazené k výročí 100.let ČSR v roce 2018.
URL:https://www.kcvhrabova.cz/akce/kontrola-stavu-vysazene-lipy/
END:VEVENT
BEGIN:VEVENT
DTSTART;TZID=Europe/Prague:20250906T080000
DTEND;TZID=Europe/Prague:20250906T200000
DTSTAMP:20260419T152840
CREATED:20250829T090426Z
LAST-MODIFIED:20250902T090810Z
UID:1977-1757145600-1757188800@www.kcvhrabova.cz
SUMMARY:Velocipedisté z Hrabové
DESCRIPTION:Každoroční výjezd do okolí na velocipedech. Tentokráte pohodová jízda do Vojkovic na Koníčka. Sraz po 8h na hřišti\, v 10h odjezd. Po cestě je mnoho zastávek k odpočinku a nabrání sil (Coolárna Vratimov\, Balkán\, Pláž\, Panský pivovar v Paskově\, občerstvení v Místku v parku\, Dobrá). Cesta tam je do mírného kopce proti proudu řek Ostravice a Morávka\, cca 24km. Mapa trasy zde. Předpokládaný návrat je v 18 hodin. Při špatném počasí bude jízda zkrácena.
URL:https://www.kcvhrabova.cz/akce/velocipediste-v-ostrave-2/
END:VEVENT
BEGIN:VEVENT
DTSTART;TZID=Europe/Prague:20250830T170000
DTEND;TZID=Europe/Prague:20250830T200000
DTSTAMP:20260419T152840
CREATED:20250829T085746Z
LAST-MODIFIED:20250829T085829Z
UID:1974-1756573200-1756584000@www.kcvhrabova.cz
SUMMARY:Gulášfest v Hrabové
DESCRIPTION:Účast klubu. Příprava a stavění stanu v pátek od 17h na hřišti.
URL:https://www.kcvhrabova.cz/akce/gulasfest-v-hrabove/
END:VEVENT
BEGIN:VEVENT
DTSTART;TZID=Europe/Prague:20250830T090000
DTEND;TZID=Europe/Prague:20250830T160000
DTSTAMP:20260419T152840
CREATED:20250829T085443Z
LAST-MODIFIED:20250829T090830Z
UID:1972-1756544400-1756569600@www.kcvhrabova.cz
SUMMARY:Opava-Krnov\, Od Fidorky ke Kofole a zpět
DESCRIPTION:Účast klubu\, stánek\, výstavka kol. Městské sady u koupaliště v Opavě.
URL:https://www.kcvhrabova.cz/akce/opava-krnov-od-fidorky-ke-kofole-a-zpet/
END:VEVENT
BEGIN:VEVENT
DTSTART;TZID=Europe/Prague:20250726T050000
DTEND;TZID=Europe/Prague:20250726T180000
DTSTAMP:20260419T152840
CREATED:20250523T085539Z
LAST-MODIFIED:20250721T193452Z
UID:1965-1753506000-1753552800@www.kcvhrabova.cz
SUMMARY:Ostrava - Olomouc - Ostrava
DESCRIPTION:V sobotu 26.7. již tradičně vyrážíme s východem slunce v 5h10min od Českého domu v Ostravě – Vítkovicích na trať Ostrava – Olomouc – Ostrava.Kancelář závodu a přihlášení proběhne v pátek 25.7. od 17h v klubovně KČV. Doporučujeme se přihlásit do středy 23.7. aby bylo zajištěno\,že účastník v bude na seznamu závodníků a bude vytištěn diplom. Startovné 200\,- Kč. Doprovodná vozidla s řidičem a nosiči na kola jsou vítaná !!!Občerstvovací zastávky po trase: Proskovice\, Nová Horka\, Kunín\, Mankovice\, Odry\, Dobešov\, focení u větrné elektrárny\, Kozlov\, Olomouc kruh objezd a zpět přes Daskabáty (oběd U Matýska)\,Kozlov\,Fulnek do Hrabové na hřiště. Sraz v 18h u betonárky Beta na parkovišti a hromadný dojezd na hřiště! \n\n\n\nSTATNĚ VPŘED!
URL:https://www.kcvhrabova.cz/akce/ostrava-olomouc-ostrava-3/
END:VEVENT
BEGIN:VEVENT
DTSTART;TZID=Europe/Prague:20250719T000000
DTEND;TZID=Europe/Prague:20250719T235959
DTSTAMP:20260419T152840
CREATED:20250523T085357Z
LAST-MODIFIED:20250523T085359Z
UID:1963-1752883200-1752969599@www.kcvhrabova.cz
SUMMARY:Klání seniorů v Hrabové
DESCRIPTION:Účast klubu
URL:https://www.kcvhrabova.cz/akce/klani-senioru-v-hrabove/
END:VEVENT
BEGIN:VEVENT
DTSTART;TZID=Europe/Prague:20250628T000000
DTEND;TZID=Europe/Prague:20250701T235959
DTSTAMP:20260419T152840
CREATED:20250331T180156Z
LAST-MODIFIED:20250331T182037Z
UID:1920-1751068800-1751414399@www.kcvhrabova.cz
SUMMARY:IVCA Rally 2025\, Sully-sur-Loire\, Francie
DESCRIPTION:Více infomací a registrace na www.ivca2025.com
URL:https://www.kcvhrabova.cz/akce/ivca-rally-2025-sully-sur-loire-francie/
END:VEVENT
BEGIN:VEVENT
DTSTART;TZID=Europe/Prague:20250621T090000
DTEND;TZID=Europe/Prague:20250621T140000
DTSTAMP:20260419T152840
CREATED:20250523T085255Z
LAST-MODIFIED:20250523T085258Z
UID:1961-1750496400-1750514400@www.kcvhrabova.cz
SUMMARY:Bílovecké šlapátko
DESCRIPTION:Účast klubu.
URL:https://www.kcvhrabova.cz/akce/bilovecke-slapatko-2/
END:VEVENT
BEGIN:VEVENT
DTSTART;TZID=Europe/Prague:20250608T090000
DTEND;TZID=Europe/Prague:20250608T170000
DTSTAMP:20260419T152840
CREATED:20250523T084953Z
LAST-MODIFIED:20250523T084955Z
UID:1959-1749373200-1749402000@www.kcvhrabova.cz
SUMMARY:Kopřivnické dny techniky
DESCRIPTION:Po oba dny náš stánek klubu. Další informace u pořadatele na webu akce https://koprivnickednytechniky.webnode.cz
URL:https://www.kcvhrabova.cz/akce/koprivnicke-dny-techniky/
END:VEVENT
BEGIN:VEVENT
DTSTART;TZID=Europe/Prague:20250531T080000
DTEND;TZID=Europe/Prague:20250531T170000
DTSTAMP:20260419T152840
CREATED:20250523T084546Z
LAST-MODIFIED:20250523T084645Z
UID:1955-1748678400-1748710800@www.kcvhrabova.cz
SUMMARY:Veteran Rallye Ostrava
DESCRIPTION:V 7:30 sraz u klubovny\, v 8h na Masarykově náměstí v Ostravě. V 9h na STARTU.
URL:https://www.kcvhrabova.cz/akce/veteran-rallye-ostrava/
END:VEVENT
BEGIN:VEVENT
DTSTART;TZID=Europe/Prague:20250524T122900
DTEND;TZID=Europe/Prague:20250524T200000
DTSTAMP:20260419T152840
CREATED:20250523T083949Z
LAST-MODIFIED:20250523T083951Z
UID:1952-1748089740-1748116800@www.kcvhrabova.cz
SUMMARY:O hůlku Hanče a Vrbaty
DESCRIPTION:O hůlku Hanče a Vrbaty – Hrabová ŠÍDLOVEC Start ve 12:29 Recesistická akce
URL:https://www.kcvhrabova.cz/akce/o-hulku-hance-a-vrbaty/
END:VEVENT
BEGIN:VEVENT
DTSTART;TZID=Europe/Prague:20250524T080000
DTEND;TZID=Europe/Prague:20250524T170000
DTSTAMP:20260419T152840
CREATED:20250523T083442Z
LAST-MODIFIED:20250523T083444Z
UID:1950-1748073600-1748106000@www.kcvhrabova.cz
SUMMARY:Léto na kole
DESCRIPTION:Jízda se starosty obcí. Více: https://letonakole.cz/ Sraz u klubovny v 8.h.
URL:https://www.kcvhrabova.cz/akce/leto-na-kole/
END:VEVENT
BEGIN:VEVENT
DTSTART;TZID=Europe/Prague:20250426T140000
DTEND;TZID=Europe/Prague:20250426T170000
DTSTAMP:20260419T152840
CREATED:20250331T175411Z
LAST-MODIFIED:20250422T203321Z
UID:1918-1745676000-1745686800@www.kcvhrabova.cz
SUMMARY:Otevírání cyklostezky ve Sviadnově
DESCRIPTION:
URL:https://www.kcvhrabova.cz/akce/otevirani-cyklostezky-ve-sviadnove-2/
END:VEVENT
BEGIN:VEVENT
DTSTART;TZID=Europe/Prague:20250426T120000
DTEND;TZID=Europe/Prague:20250426T200000
DTSTAMP:20260419T152840
CREATED:20250422T203747Z
LAST-MODIFIED:20250422T203835Z
UID:1946-1745668800-1745697600@www.kcvhrabova.cz
SUMMARY:80.výročí osvobození Ostravy
DESCRIPTION:Slezskoostravský hrad a jeho okolí. Účast klubu. \n\n\n\nDalší informace na https://www.slezskoostravskyhrad.cz/cz/akce/396-80-vyroci-osvobozeni-ostravy.html
URL:https://www.kcvhrabova.cz/akce/80-vyroci-osvobozeni-ostravy/
END:VEVENT
BEGIN:VEVENT
DTSTART;TZID=Europe/Prague:20250408T163000
DTEND;TZID=Europe/Prague:20250408T173000
DTSTAMP:20260419T152840
CREATED:20250331T175042Z
LAST-MODIFIED:20250331T175044Z
UID:1916-1744129800-1744133400@www.kcvhrabova.cz
SUMMARY:Víťa Dostál-Na kole kolem světa
DESCRIPTION:Cestovatelská přednáška v knihovně Hrabová.
URL:https://www.kcvhrabova.cz/akce/vita-dostal-na-kole-kolem-sveta/
END:VEVENT
BEGIN:VEVENT
DTSTART;TZID=Europe/Prague:20250322T130000
DTEND;TZID=Europe/Prague:20250322T180000
DTSTAMP:20260419T152840
CREATED:20250205T171301Z
LAST-MODIFIED:20250313T175955Z
UID:1891-1742648400-1742666400@www.kcvhrabova.cz
SUMMARY:Jarní otevírání cyklostezky
DESCRIPTION:+ soutěže pro děti.
URL:https://www.kcvhrabova.cz/akce/jarni-otevirani-cyklostezky/
END:VEVENT
BEGIN:VEVENT
DTSTART;TZID=Europe/Prague:20250301T180000
DTEND;TZID=Europe/Prague:20250301T235900
DTSTAMP:20260419T152840
CREATED:20250122T193008Z
LAST-MODIFIED:20250216T210238Z
UID:1887-1740852000-1740873540@www.kcvhrabova.cz
SUMMARY:6. ples velocipedistů
DESCRIPTION:Kulturní dům Ostrava-Hrabová. Hudba DVT Ostrava. Předtančení\, kouzelník\, tombola\, moderátor. \n\n\n\nVstupné 500\,-Kč (v ceně večeře\, výběr ze dvou jídel předem) \n\n\n\nVečeře: \n\n\n\n1.) Krůtí plněná roláda\, pečené brambůrky Grenaille\, silný jus \n\n\n\n2.) Hovězí ragů na kořenové zelenině\, rýže Basmati \n\n\n\n \n\n\n\nOd úterý 4.2.2025 začíná prodej vstupenek v klubovně.
URL:https://www.kcvhrabova.cz/akce/ples-velocipedistu/
END:VEVENT
BEGIN:VEVENT
DTSTART;TZID=Europe/Prague:20250121T163000
DTEND;TZID=Europe/Prague:20250121T200000
DTSTAMP:20260419T152840
CREATED:20241213T222956Z
LAST-MODIFIED:20241213T223030Z
UID:1881-1737477000-1737489600@www.kcvhrabova.cz
SUMMARY:Cestopisná přednáška-na kole až na Nordkapp
DESCRIPTION:Přednáška člena klubu Paolo Togni v knihovně v Hrabové v 16:30h\, který dojel na kole až na nejsevernější část Norska\, Nordkapp.
URL:https://www.kcvhrabova.cz/akce/cestopisna-prednaska-na-kole-az-na-nordkapp/
END:VEVENT
BEGIN:VEVENT
DTSTART;TZID=Europe/Prague:20250107T170000
DTEND;TZID=Europe/Prague:20250107T200000
DTSTAMP:20260419T152840
CREATED:20241213T222521Z
LAST-MODIFIED:20241213T222523Z
UID:1879-1736269200-1736280000@www.kcvhrabova.cz
SUMMARY:První schůzka v klubovně v novém roce
DESCRIPTION:
URL:https://www.kcvhrabova.cz/akce/prvni-schuzka-v-klubovne-v-novem-roce/
END:VEVENT
BEGIN:VEVENT
DTSTART;TZID=Europe/Prague:20250101T130000
DTEND;TZID=Europe/Prague:20250101T160000
DTSTAMP:20260419T152840
CREATED:20241023T200925Z
LAST-MODIFIED:20241213T222418Z
UID:1864-1735736400-1735747200@www.kcvhrabova.cz
SUMMARY:Novoroční vyjížďka
DESCRIPTION:Sraz ve 13.h U Kostelíku\, focení\, odjezd na hřbitov do Vítkovic\, závěr v klubovně.
URL:https://www.kcvhrabova.cz/akce/novorocni-vyjizdka-2/
END:VEVENT
BEGIN:VEVENT
DTSTART;TZID=Europe/Prague:20241231T090000
DTEND;TZID=Europe/Prague:20241231T200000
DTSTAMP:20260419T152840
CREATED:20241118T221519Z
LAST-MODIFIED:20241213T222238Z
UID:1868-1735635600-1735675200@www.kcvhrabova.cz
SUMMARY:Silvestrovský výšlap na Lysou horu
DESCRIPTION:Sraz v 9h u Rajské boudy v Malenovicích\, focení všech účastníků.  \n\n\n\nBudou čtyři vrcholové stanoviště – družstva: \n\n\n\n\nČtvrté – dojde na Rajskou boudu\n\n\n\nTřetí – dojde k bodu U Korýtka\n\n\n\nDruhé – dojde k hostinci U Veličků\n\n\n\nPrvní (vrcholové) – dojde na Lysou horu s vlajkou klubu\n\n\n\n\nHistorické artefakty s sebou (ski\, skibob\, saně\, pekáč\, atakdále…)
URL:https://www.kcvhrabova.cz/akce/silvestrovsky-vyslap-na-lysou-horu/
END:VEVENT
BEGIN:VEVENT
DTSTART;TZID=Europe/Prague:20241221T000000
DTEND;TZID=Europe/Prague:20241221T235959
DTSTAMP:20260419T152840
CREATED:20241213T221759Z
LAST-MODIFIED:20241213T221801Z
UID:1874-1734739200-1734825599@www.kcvhrabova.cz
SUMMARY:Betlémské světlo
DESCRIPTION:Sraz v 9.h na zahradě u předsedy\, konec ul.Domovské před podjezdem s ul.Mostní \, občerstvení zajištěno. Pak se vypravíme pro Betlémské světlo do Vratimova na nádraží (10:40.h) pak zpět a do Hrabové (Květinářství Kročková\, Restaurace Stodola).
URL:https://www.kcvhrabova.cz/akce/betlemske-svetlo/
END:VEVENT
BEGIN:VEVENT
DTSTART;TZID=Europe/Prague:20241217T160000
DTEND;TZID=Europe/Prague:20241217T200000
DTSTAMP:20260419T152840
CREATED:20241213T221457Z
LAST-MODIFIED:20241213T221458Z
UID:1872-1734451200-1734465600@www.kcvhrabova.cz
SUMMARY:Vánoční schůzka v klubovně
DESCRIPTION:Vánoční ozdoby a občerstvení s sebou.
URL:https://www.kcvhrabova.cz/akce/vanocni-schuzka-v-klubovne/
END:VEVENT
BEGIN:VEVENT
DTSTART;TZID=Europe/Prague:20241214T170000
DTEND;TZID=Europe/Prague:20241214T200000
DTSTAMP:20260419T152840
CREATED:20241213T223531Z
LAST-MODIFIED:20241213T223532Z
UID:1884-1734195600-1734206400@www.kcvhrabova.cz
SUMMARY:Zpívání koled s cimbálovou muzikou
DESCRIPTION:Přichází čas Vánoc\,tak se zastavte a pojďte si s námi zazpívatkoledy za doprovodu cimbálu a smyčcových nástrojů.V této adventní době nás potěší i svým vánočním repertoárem cimbálová muzika Šmykňa \n\n\n\nV sobotu 14.12.2024 v 17 hod.ve vratimovské vodárenské věži \n\n\n\nJiž tradičně si společně nazdobíme stromeček\,letos v barvě\, která je milá vašemu srdci \n\n\n\nDobře se oblečte a nalaďte !!! \n\n\n\nS sebou můžete přibrat i dobroty k punči či čaji
URL:https://www.kcvhrabova.cz/akce/zpivani-koled-s-cimbalovou-muzikou/
END:VEVENT
BEGIN:VEVENT
DTSTART;TZID=Europe/Prague:20241124T100000
DTEND;TZID=Europe/Prague:20241124T160000
DTSTAMP:20260419T152840
CREATED:20241023T200739Z
LAST-MODIFIED:20241023T200740Z
UID:1862-1732442400-1732464000@www.kcvhrabova.cz
SUMMARY:Kateřinská pouť
DESCRIPTION:Od 10h\, sraz u kostelíku.
URL:https://www.kcvhrabova.cz/akce/katerinska-pout-2/
END:VEVENT
END:VCALENDAR