BEGIN:VCALENDAR
VERSION:2.0
PRODID:-//Klub českých velocipedistů v Hrabové - ECPv6.15.20//NONSGML v1.0//EN
CALSCALE:GREGORIAN
METHOD:PUBLISH
X-ORIGINAL-URL:https://www.kcvhrabova.cz
X-WR-CALDESC:Akce na Klub českých velocipedistů v Hrabové
REFRESH-INTERVAL;VALUE=DURATION:PT1H
X-Robots-Tag:noindex
X-PUBLISHED-TTL:PT1H
BEGIN:VTIMEZONE
TZID:Europe/Prague
BEGIN:DAYLIGHT
TZOFFSETFROM:+0100
TZOFFSETTO:+0200
TZNAME:CEST
DTSTART:20190331T010000
END:DAYLIGHT
BEGIN:STANDARD
TZOFFSETFROM:+0200
TZOFFSETTO:+0100
TZNAME:CET
DTSTART:20191027T010000
END:STANDARD
BEGIN:DAYLIGHT
TZOFFSETFROM:+0100
TZOFFSETTO:+0200
TZNAME:CEST
DTSTART:20200329T010000
END:DAYLIGHT
BEGIN:STANDARD
TZOFFSETFROM:+0200
TZOFFSETTO:+0100
TZNAME:CET
DTSTART:20201025T010000
END:STANDARD
BEGIN:DAYLIGHT
TZOFFSETFROM:+0100
TZOFFSETTO:+0200
TZNAME:CEST
DTSTART:20210328T010000
END:DAYLIGHT
BEGIN:STANDARD
TZOFFSETFROM:+0200
TZOFFSETTO:+0100
TZNAME:CET
DTSTART:20211031T010000
END:STANDARD
BEGIN:DAYLIGHT
TZOFFSETFROM:+0100
TZOFFSETTO:+0200
TZNAME:CEST
DTSTART:20220327T010000
END:DAYLIGHT
BEGIN:STANDARD
TZOFFSETFROM:+0200
TZOFFSETTO:+0100
TZNAME:CET
DTSTART:20221030T010000
END:STANDARD
BEGIN:DAYLIGHT
TZOFFSETFROM:+0100
TZOFFSETTO:+0200
TZNAME:CEST
DTSTART:20230326T010000
END:DAYLIGHT
BEGIN:STANDARD
TZOFFSETFROM:+0200
TZOFFSETTO:+0100
TZNAME:CET
DTSTART:20231029T010000
END:STANDARD
BEGIN:DAYLIGHT
TZOFFSETFROM:+0100
TZOFFSETTO:+0200
TZNAME:CEST
DTSTART:20240331T010000
END:DAYLIGHT
BEGIN:STANDARD
TZOFFSETFROM:+0200
TZOFFSETTO:+0100
TZNAME:CET
DTSTART:20241027T010000
END:STANDARD
BEGIN:DAYLIGHT
TZOFFSETFROM:+0100
TZOFFSETTO:+0200
TZNAME:CEST
DTSTART:20250330T010000
END:DAYLIGHT
BEGIN:STANDARD
TZOFFSETFROM:+0200
TZOFFSETTO:+0100
TZNAME:CET
DTSTART:20251026T010000
END:STANDARD
END:VTIMEZONE
BEGIN:VEVENT
DTSTART;TZID=Europe/Prague:20240727T050000
DTEND;TZID=Europe/Prague:20240727T200000
DTSTAMP:20260420T045704
CREATED:20240208T212229Z
LAST-MODIFIED:20240722T192348Z
UID:1792-1722056400-1722110400@www.kcvhrabova.cz
SUMMARY:Ostrava - Olomouc - Ostrava
DESCRIPTION:V pátek 26.7.2024 – přihlášení na tuto akci v Kanceláři závodu v klubovně od 17.h\, startovné 200\,-Kč. \n\n\n\nVýjezd v sobotu od Českého domu s východem slunce. Start v 5h11min. \n\n\n\nPo trase jsou dva problémy s uzavřenou silnicí a to v úsecích: \n\n\n\nVelký Újezd – Daskabát \, mapa zde na odkazu https://mapy.cz/s/kevasugupo \n\n\n\nKocourovec – Přáslavice \, mapa zde na odkazu https://mapy.cz/s/pohodofeca \n\n\n\nKolem obou uzavírek vede cyklostezka\, snad bude průjezdná.
URL:https://www.kcvhrabova.cz/akce/ostrava-olomouc-ostrava-2/
END:VEVENT
BEGIN:VEVENT
DTSTART;TZID=Europe/Prague:20240622T090000
DTEND;TZID=Europe/Prague:20240622T150000
DTSTAMP:20260420T045704
CREATED:20240611T051931Z
LAST-MODIFIED:20240611T060956Z
UID:1837-1719046800-1719068400@www.kcvhrabova.cz
SUMMARY:Bílovecké šlapátko
DESCRIPTION:Tradiční akce Bíloveckých velocipedistů. Účast našeho klubu.
URL:https://www.kcvhrabova.cz/akce/bilovecke-slapatko/
END:VEVENT
BEGIN:VEVENT
DTSTART;TZID=Europe/Prague:20240615T000000
DTEND;TZID=Europe/Prague:20240615T235959
DTSTAMP:20260420T045704
CREATED:20240208T212039Z
LAST-MODIFIED:20240611T051120Z
UID:1790-1718409600-1718495999@www.kcvhrabova.cz
SUMMARY:100 let velké Ostravy
DESCRIPTION:Velký průvod Ostravou\,účast našeho klubu. Komenského sady – Velký průvod Ostravou. \n\n\n\nDalší informace na www.velkaostrava.cz
URL:https://www.kcvhrabova.cz/akce/100-let-velke-ostravy/
END:VEVENT
BEGIN:VEVENT
DTSTART;TZID=Europe/Prague:20240601T100000
DTEND;TZID=Europe/Prague:20240601T220000
DTSTAMP:20260420T045704
CREATED:20240515T063447Z
LAST-MODIFIED:20240515T063551Z
UID:1817-1717236000-1717279200@www.kcvhrabova.cz
SUMMARY:Den MOaP v Ostravě
DESCRIPTION:Den MOaP následuje po Dni dětí\, který tradičně probíhal na Masarykově náměstí\, avšak rozšiřuje svůj rozsah nejen pro rodiny s dětmi\, ale také pro dospělé návštěvníky. V roce 2024 slaví Den MOaP 100 let Velké Ostravy 1924–2024. Cílem akce je představit veřejnosti místní dobrovolnické organizace\, školy a další instituce v celé jejich rozmanitosti\, spolu s řadou aktivit připravených pro občany MOb MOaP (městského obvodu Moravská Ostrava a Přívoz). Mezi tyto organizace patří sportovní a kulturní spolky\, turistické oddíly pro mládež a další. Tyto organizace a školy společně připravují pro veřejnost workshopy\, přehlídky své práce\, vystoupení a další aktivity. \n\n\n\nObčerstvení je poskytováno místními kavárnami a restauracemi\, které nabízejí své speciality\, a také zážitkové workshopy jako například gastronomické show. Kromě tohoto programu je součástí akce i kulturní program\, včetně hudebních a tanečních vystoupení a zábavných atrakcí pro děti.
URL:https://www.kcvhrabova.cz/akce/den-moap-v-ostrave/
END:VEVENT
BEGIN:VEVENT
DTSTART;VALUE=DATE:20240529
DTEND;VALUE=DATE:20240603
DTSTAMP:20260420T045704
CREATED:20230829T182637Z
LAST-MODIFIED:20230829T182637Z
UID:1717-1716940800-1717372799@www.kcvhrabova.cz
SUMMARY:42nd IVCA Rally 2024 Ostrava
DESCRIPTION:
URL:https://www.kcvhrabova.cz/akce/42nd-ivca-rally-2024-ostrava/
END:VEVENT
BEGIN:VEVENT
DTSTART;TZID=Europe/Prague:20240519T140000
DTEND;TZID=Europe/Prague:20240519T170000
DTSTAMP:20260420T045704
CREATED:20240517T071558Z
LAST-MODIFIED:20240517T071559Z
UID:1827-1716127200-1716138000@www.kcvhrabova.cz
SUMMARY:Svatý duch - smažení vaječiny
DESCRIPTION:Na hřišti v 14.h.
URL:https://www.kcvhrabova.cz/akce/svaty-duch-smazeni-vajeciny/
END:VEVENT
BEGIN:VEVENT
DTSTART;TZID=Europe/Prague:20240518T140000
DTEND;TZID=Europe/Prague:20240518T140000
DTSTAMP:20260420T045704
CREATED:20240517T071022Z
LAST-MODIFIED:20240517T071808Z
UID:1822-1716040800-1716040800@www.kcvhrabova.cz
SUMMARY:Závišický pedál
DESCRIPTION:Sraz ve 14h na místě\, zahrada pohostinství U Kremlů.
URL:https://www.kcvhrabova.cz/akce/zavisicky-pedal/
END:VEVENT
BEGIN:VEVENT
DTSTART;TZID=Europe/Prague:20240518T100000
DTEND;TZID=Europe/Prague:20240518T100000
DTSTAMP:20260420T045704
CREATED:20240517T065535Z
LAST-MODIFIED:20240517T071936Z
UID:1820-1716026400-1716026400@www.kcvhrabova.cz
SUMMARY:Mistrovství ČR v krasojízdě žactva
DESCRIPTION:Sokolovna Petřvald (u Mošnova)\, v 10h na místě. Více informací Pavel Žižka.
URL:https://www.kcvhrabova.cz/akce/mistrovstvi-cr-v-krasojizde-zactva/
END:VEVENT
BEGIN:VEVENT
DTSTART;TZID=Europe/Prague:20240419T180000
DTEND;TZID=Europe/Prague:20240419T190000
DTSTAMP:20260420T045704
CREATED:20240415T173916Z
LAST-MODIFIED:20240415T174147Z
UID:1809-1713549600-1713553200@www.kcvhrabova.cz
SUMMARY:Vernisáž výstavy Dobrodružství cyklistiky
DESCRIPTION:
URL:https://www.kcvhrabova.cz/akce/vernisaz-vystavy-dobrodruzstvi-cyklistiky/
END:VEVENT
BEGIN:VEVENT
DTSTART;TZID=Europe/Prague:20240413T000000
DTEND;TZID=Europe/Prague:20240413T235959
DTSTAMP:20260420T045704
CREATED:20240208T211815Z
LAST-MODIFIED:20240208T211817Z
UID:1788-1712966400-1713052799@www.kcvhrabova.cz
SUMMARY:Otevírání cyklostezky ve Sviadnově
DESCRIPTION:
URL:https://www.kcvhrabova.cz/akce/otevirani-cyklostezky-ve-sviadnove/
END:VEVENT
BEGIN:VEVENT
DTSTART;TZID=Europe/Prague:20240324T130000
DTEND;TZID=Europe/Prague:20240324T180000
DTSTAMP:20260420T045704
CREATED:20240208T211613Z
LAST-MODIFIED:20240319T212451Z
UID:1786-1711285200-1711303200@www.kcvhrabova.cz
SUMMARY:Jarní otevírání cyklostezky
DESCRIPTION:Otevírání cyklostezky\, ul.Domovská
URL:https://www.kcvhrabova.cz/akce/prvni-jarni-vyjizdka/
END:VEVENT
BEGIN:VEVENT
DTSTART;VALUE=DATE:20240224
DTEND;VALUE=DATE:20240225
DTSTAMP:20260420T045704
CREATED:20230829T182253Z
LAST-MODIFIED:20231103T181757Z
UID:1715-1708732800-1708819199@www.kcvhrabova.cz
SUMMARY:5.Ples velocipedistů
DESCRIPTION:Sál v KD Hrabová\, hudba – kapela DVT Ostrava.
URL:https://www.kcvhrabova.cz/akce/5-ples-velocipedistu/
END:VEVENT
BEGIN:VEVENT
DTSTART;TZID=Europe/Prague:20240101T130000
DTEND;TZID=Europe/Prague:20240101T160000
DTSTAMP:20260420T045704
CREATED:20231227T213906Z
LAST-MODIFIED:20231227T213907Z
UID:1767-1704114000-1704124800@www.kcvhrabova.cz
SUMMARY:Novoroční vyjížďka
DESCRIPTION:Sraz ve 13.h u Kostelíku sv.Kateřiny v Hrabové \n\n\n\nPo novoročním focení u kostelíku\, jízda k poslednímu vlajkonoši klubu (Inocenc Březina)\, který odpočívá na hřbitově ve Vítkovicích a zpět do Restaurace Beskyd (U Hňupa).
URL:https://www.kcvhrabova.cz/akce/novorocni-vyjizdka/
END:VEVENT
BEGIN:VEVENT
DTSTART;TZID=Europe/Prague:20231231T083000
DTEND;TZID=Europe/Prague:20231231T160000
DTSTAMP:20260420T045704
CREATED:20231227T211848Z
LAST-MODIFIED:20231227T212106Z
UID:1761-1704011400-1704038400@www.kcvhrabova.cz
SUMMARY:Výstup na Lysou horu
DESCRIPTION:Sraz v Malenovicích u Rajské boudy parkoviště v 8:30 \n\n\n\n \n\n\n\nPo focení se vydáme po trase na Lysou horu a jako každoročně máme tři výkonnostní družstva: \n\n\n\n\nDružstvo C) Má za úkol dojít Ke Korýtku po asfaltové cestě\n\n\n\nDružstvo B) Zřídí základní tábor U Veličků od 10.h\n\n\n\nDružstvo A) Má za úkol dojít na Lysou horu a zpět do základního tábora a vyvěsit vlajku klubu na Lysé hoře.
URL:https://www.kcvhrabova.cz/akce/vystup-na-lysou-horu-2/
END:VEVENT
BEGIN:VEVENT
DTSTART;TZID=Europe/Prague:20231203T000000
DTEND;TZID=Europe/Prague:20231203T235959
DTSTAMP:20260420T045704
CREATED:20231103T182609Z
LAST-MODIFIED:20231103T182653Z
UID:1758-1701561600-1701647999@www.kcvhrabova.cz
SUMMARY:Rozsvěcení vánočního stromu
DESCRIPTION:
URL:https://www.kcvhrabova.cz/akce/rozsveceni-vanocniho-stromu/
END:VEVENT
BEGIN:VEVENT
DTSTART;TZID=Europe/Prague:20231128T170000
DTEND;TZID=Europe/Prague:20231128T200000
DTSTAMP:20260420T045704
CREATED:20231103T182538Z
LAST-MODIFIED:20231103T182539Z
UID:1756-1701190800-1701201600@www.kcvhrabova.cz
SUMMARY:Členská schůze členů KČV
DESCRIPTION:Místo konání schůze – Hrabová\,  Kulturní dům. Začátek v 17h. 
URL:https://www.kcvhrabova.cz/akce/clenska-schuze-clenu-kcv/
END:VEVENT
BEGIN:VEVENT
DTSTART;TZID=Europe/Prague:20231126T000000
DTEND;TZID=Europe/Prague:20231126T235959
DTSTAMP:20260420T045704
CREATED:20231103T182345Z
LAST-MODIFIED:20231103T182346Z
UID:1754-1700956800-1701043199@www.kcvhrabova.cz
SUMMARY:Kateřinská pouť
DESCRIPTION:
URL:https://www.kcvhrabova.cz/akce/katerinska-pout/
END:VEVENT
BEGIN:VEVENT
DTSTART;TZID=Europe/Prague:20231111T130000
DTEND;TZID=Europe/Prague:20231111T170000
DTSTAMP:20260420T045704
CREATED:20231103T182302Z
LAST-MODIFIED:20231103T182304Z
UID:1752-1699707600-1699722000@www.kcvhrabova.cz
SUMMARY:Uzamknutí cyklostezky ul.Domovská
DESCRIPTION:Přibližně ve 13.h uzamkneme cyklostezku ul.Domovská na místě\, kde jsme ji na jaře otevřeli (u ul.Paskovské)\, poté jízda směr ul.Mostní\, doprava k hřbitovu a zpět na ul.Domovskou. Mapa a ukončení akce zde na odkazu.
URL:https://www.kcvhrabova.cz/akce/uzamknuti-cyklostezky-ul-domovska/
END:VEVENT
BEGIN:VEVENT
DTSTART;TZID=Europe/Prague:20231104T080000
DTEND;TZID=Europe/Prague:20231104T170000
DTSTAMP:20260420T045704
CREATED:20231103T181913Z
LAST-MODIFIED:20231103T181914Z
UID:1750-1699084800-1699117200@www.kcvhrabova.cz
SUMMARY:Výlov rybníka v Mitrovicích
DESCRIPTION:Výlov rybníka v Mitrovicích – jede se na kolech\, sraz v 8.h u klubovny KČV v Hrabové\, potom jízda po ul.Domovské s připojením dalších členů po trase do Mitrovic.
URL:https://www.kcvhrabova.cz/akce/vylov-rybnika-v-mitrovicich/
END:VEVENT
BEGIN:VEVENT
DTSTART;VALUE=DATE:20230916
DTEND;VALUE=DATE:20230917
DTSTAMP:20260420T045704
CREATED:20230301T203039Z
LAST-MODIFIED:20230830T195524Z
UID:1695-1694822400-1694908799@www.kcvhrabova.cz
SUMMARY:Ostrava - Olomouc - Ostrava
DESCRIPTION:Odložená jízda Ostrava – Olomouc – Ostrava.
URL:https://www.kcvhrabova.cz/akce/ostrava-olomouc-ostrava/
CATEGORIES:Klubové vyjížďky
END:VEVENT
BEGIN:VEVENT
DTSTART;TZID=Europe/Prague:20230909T000000
DTEND;TZID=Europe/Prague:20230909T235959
DTSTAMP:20260420T045704
CREATED:20230830T201109Z
LAST-MODIFIED:20230830T201111Z
UID:1730-1694217600-1694303999@www.kcvhrabova.cz
SUMMARY:Velocipedisté v Ostravě
DESCRIPTION:
URL:https://www.kcvhrabova.cz/akce/velocipediste-v-ostrave/
END:VEVENT
BEGIN:VEVENT
DTSTART;VALUE=DATE:20230527
DTEND;VALUE=DATE:20230528
DTSTAMP:20260420T045704
CREATED:20230301T202707Z
LAST-MODIFIED:20230301T202707Z
UID:1691-1685145600-1685231999@www.kcvhrabova.cz
SUMMARY:Smažení vaječiny (svatý duch)
DESCRIPTION:Smažení vaječiny (svatý duch) na hřišti v Hrabové.
URL:https://www.kcvhrabova.cz/akce/smazeni-vajeciny-svaty-duch/
LOCATION:Hrabová\, Hrabová\, Moravskoslezský\, 72000\, Česká republika
END:VEVENT
BEGIN:VEVENT
DTSTART;VALUE=DATE:20230427
DTEND;VALUE=DATE:20230501
DTSTAMP:20260420T045704
CREATED:20230301T202400Z
LAST-MODIFIED:20230301T203815Z
UID:1685-1682553600-1682899199@www.kcvhrabova.cz
SUMMARY:GRACIA Orlová 2023
DESCRIPTION:35.ročník mezinárodního etapového závodu žen v cyklistice kategorie WE 2.2.
URL:https://www.kcvhrabova.cz/akce/gracia-orlova-2023/
LOCATION:Orlová\, Osvobození 797\, Lutyně\, Orlová\, Moravskoslezský\, 73514\, Česká republika
END:VEVENT
BEGIN:VEVENT
DTSTART;TZID=Europe/Prague:20230325T130000
DTEND;TZID=Europe/Prague:20230325T200000
DTSTAMP:20260420T045704
CREATED:20230301T194533Z
LAST-MODIFIED:20230301T195132Z
UID:1674-1679749200-1679774400@www.kcvhrabova.cz
SUMMARY:Otevírání cyklostezky a První jarní jízda
DESCRIPTION:od 13.h. přihlášení v Restauraci Stodola – rozdání lístků do tomboly\, která bude na konci akce a rozdání soutěžních kuponu pro děti \n13:45 odjezd k otevírání cyklostezky \n14:00 otevírání cyklostezky ul.Domovská  https://mapy.cz/s/pamejajenu \n14:15 první soutěž pro děti u Kostelíku sv.Kateřiny \n14:45 druhá soutěž pro děti jízda mezi kužely u zahrady předsedy \n15:15 třetí soutěž pro děti u Kostelíku sv.Kateřiny \n15:45 čtvrtá soutěž pro děti v klubovně\, vědomostní\, cyklistická \n16:15 vyhodnocení soutěží dětí v Restauraci Stodola\, předání cen z Besipu \n17:00 vylosování tomboly – tři ceny (Restaurace Stodola\, KČV v Hrabové\, Pivovar Paskov) \nPo otevření cyklostezky dospělí bez dětí a členové klubu bez zajišťování akce pojedou na První jarní jízdu směr Pivovar Paskov (zastávka na 1)\, tak aby byli v 17.h zpět na tombole v Restauraci Stodola. \n  \nPo akci členové klubu se přemístí na hřiště Sokola Hrabová\, kde proběhne zhodnocení akce a otevření okýnka U Kumana.
URL:https://www.kcvhrabova.cz/akce/otevirani-cyklostezky-a-prvni-jarni-jizda/
LOCATION:Hrabová\, Hrabová\, Moravskoslezský\, 72000\, Česká republika
END:VEVENT
BEGIN:VEVENT
DTSTART;VALUE=DATE:20230128
DTEND;VALUE=DATE:20230129
DTSTAMP:20260420T045704
CREATED:20221215T195633Z
LAST-MODIFIED:20221215T195706Z
UID:1640-1674864000-1674950399@www.kcvhrabova.cz
SUMMARY:4.Ples velocipedistů
DESCRIPTION:
URL:https://www.kcvhrabova.cz/akce/4-ples-velocipedistu/
ORGANIZER;CN="Ji%C5%99%C3%AD Axmann":MAILTO:j.axmann@centrum.cz
END:VEVENT
BEGIN:VEVENT
DTSTART;TZID=Europe/Prague:20230101T140000
DTEND;TZID=Europe/Prague:20230101T140000
DTSTAMP:20260420T045704
CREATED:20221215T200321Z
LAST-MODIFIED:20221215T200321Z
UID:1643-1672581600-1672581600@www.kcvhrabova.cz
SUMMARY:Novoroční jízda
DESCRIPTION:Odjezd od kostelíku sv.Kateřiny ve 14. hodin.
URL:https://www.kcvhrabova.cz/akce/novorocni-jizda/
ORGANIZER;CN="Ji%C5%99%C3%AD Axmann":MAILTO:j.axmann@centrum.cz
END:VEVENT
BEGIN:VEVENT
DTSTART;TZID=Europe/Prague:20221231T090000
DTEND;TZID=Europe/Prague:20221231T090000
DTSTAMP:20260420T045704
CREATED:20221215T204439Z
LAST-MODIFIED:20221215T205152Z
UID:1645-1672477200-1672477200@www.kcvhrabova.cz
SUMMARY:Výstup na Lysou horu
DESCRIPTION:Sraz bude v 9:00 u Rajské boudy v Malenovicích\, kde budeme rozděleni do družstev a proběhne focení mužstva. \nRozdělení družstev: \n\nA – Lysá hora\nB – U Veličků\nC – Korýtko\nD – Rajská bouda\n\n 
URL:https://www.kcvhrabova.cz/akce/vystup-na-lysou-horu/
END:VEVENT
BEGIN:VEVENT
DTSTART;VALUE=DATE:20220101
DTEND;VALUE=DATE:20220201
DTSTAMP:20260420T045704
CREATED:20220207T075806Z
LAST-MODIFIED:20220324T070008Z
UID:1548-1640995200-1643673599@www.kcvhrabova.cz
SUMMARY:Plán akcí na rok 2022
DESCRIPTION:  \n\n\n\n01.01.2022\nNovoroční jízda\n\n\n26.03.2022\nJarní jízda\n\n\n16.04.2022\nVelikonoční vyjížďka – Paskov – vodárenská věž ve Vratimově\n\n\n28.04.-01.05.2022\nGracia Orlová\n\n\n30.04.2022\nKladení věnců na hřbitově v Ostravě-Hrabové\n\n\n01.05.2022\njízda do Komenského sadů k památníku osvobození\n\n\n01.05.2022\nJízda na Veterán rallye\n\n\n21.05.2022\nFrýdek-Místek na kole\n\n\n11.06.2022\nOslavy ve Staré Bělé\n\n\n25. – 29.5.2022\nIVCA 202 Oestende\, Belgie\n\n\n05.06.2022\nLetnice – smažení vaječiny\n\n\n4.-5.6.2022\njízda Brno – Břeclav\n\n\n6.2022\nNa kole dětem\n\n\n6.2022\nBoskovštejn\n\n\n6.2022\nvyhlášení výsledků akce „Do práce na kole“\n\n\n6.2022\nME vysokých kol v Brně\n\n\n7.2022\nOstrava – Olomouc – Ostrava\n\n\n7.2022\nBílovecké šlapátko\n\n\n8.2022\nŽdánice\n\n\n8.2022\nLichnov závod na 24 hodin\n\n\n8.2022\nVratfest\n\n\n8.2022\nGulášfest\, Čadíci\n\n\n8.2022\nKomenského sady\n\n\n8.2022\nPoruba memoriál Jana Veselého\n\n\n9.2022\nOpava Fidorka\n\n\n9.2022\nVelocipedisté v Ostravě\n\n\n9.2022\nTrofeo Niké\n\n\n9.2022\nKopřivnické dni techniky\n\n\n9.2022\nFavál a Rekordovál\n\n\n9.2022\nVýstup na K2 v Krmelíně\n\n\n10.2022\nPaskov – Slezská brána\n\n\n11.2022\nvýlov rybníku v Mitrovicích\n\n\n11.2022\nCyklokros\n\n\n11.2022\nKateřinská pouť\n\n\nvždy v úterý\nvýborové schůze\, od 17:00 v klubovně (v létě na hřišti ČAF)\n\n\nvždy v neděli\njízdy pro chleba do Paskova\, odjezd v 10:10 od „tramvajky“
URL:https://www.kcvhrabova.cz/akce/plan-akci-na-rok-2022/
LOCATION:Europe
ORGANIZER;CN="Ji%C5%99%C3%AD Axmann":MAILTO:j.axmann@centrum.cz
END:VEVENT
BEGIN:VEVENT
DTSTART;TZID=Europe/Prague:20200815T073000
DTEND;TZID=Europe/Prague:20200816T170000
DTSTAMP:20260420T045704
CREATED:20200730T170025Z
LAST-MODIFIED:20200730T170025Z
UID:1372-1597476600-1597597200@www.kcvhrabova.cz
SUMMARY:Histokola města Ždánice
DESCRIPTION:
URL:https://www.kcvhrabova.cz/akce/histokola-mesta-zdanice/
ORGANIZER;CN="Pavel %C5%BDi%C5%BEka":MAILTO:pavel.zizka@seznam.cz
END:VEVENT
BEGIN:VEVENT
DTSTART;TZID=Europe/Prague:20200725T050800
DTEND;TZID=Europe/Prague:20200725T180000
DTSTAMP:20260420T045704
CREATED:20200713T110106Z
LAST-MODIFIED:20200713T141057Z
UID:1240-1595653680-1595700000@www.kcvhrabova.cz
SUMMARY:3. ročník jízdy Ostrava - Olomouc - Ostrava
DESCRIPTION:Jízda se koná jako vzpomínka na závod\, jehož první ročník proběhl již v roce 1933. Závod pořádal cyklistický klub Vpřed Vítkovice. Účastnili se ho významní cyklisté\, jako například Jan Veselý\, Antonín Perič (oba Sparta) https://www.euro.cz/byznys/antonin-peric-jedinecny-zavodnik-konstrukter-i-vyrobce-kol-894941 \, Krejčů (Slavie). Z ostravských cyklistů to byli například Melecký\, Štěpnička\, Žabenský\, Pavlásek\, M. Žižka a další. Závod se těšil velké popularitě a podle dobového tisku z roku 1948\, dojezd v Ostravě sledovalo 10.000 diváků. Kytici květů\, v tomto roce\, vítězi předávala vnučka Gustava Šponara (Gustav Šponar – jeden z prvních ostravských cyklistů\, který nešťastně zahynul v roce 1945\, během osvobozování Ostravy) \nJezdci nastoupeni před startem 2. ročníku  \n  \n  \n\n					Propozice závodu\n					Kancelář závodu: 24.7. 17:00\, klubovna KČV Hrabová\, ulice Viktora Huga 8 \nStart: 25.7. v 5:08 hodin ulice Výstavní\, restaurace Český dům \nTrasa: bude\, pokud možno\, vedena po vedlejších silnicích a cyklistických stezkách\, za plného provozu a bez asistence policie. Každý účastník jede na svou zodpovědnost a musí dodržovat pravidla silničního provozu. Trasa nebude značena\, předpokládá se společná jízda. Na odpadlíky se čeká na kopci\, na nejbližší křižovatce. \nTechnický doprovod: bude zajištěn po celé délce trasy\, každý účastník musí mít osvětlení\, náhradní duši nebo galusku\, peníze na občerstvení\, nabitý telefon. V případě potřeby zajistíme dopravu odpadlíků do Hrabové. \n Bufet a občerstvení: po celé trase bude několik zastávek s občerstvením \nStartovné: 200\,- \n Čísla: budou vydávána v kanceláři závodu. \nKola a oblečení: historická\, závodní\, rám z ocelových trubek\, nejmladší kolo do roku 1980\, vybavení – bez polohovacích páček – tzv. sytiče\, bez nášlapných pedálů\, klipsny s řemínky\, bowdeny vedené vrchem\, tzv. opratě\, výplety kol špice\, žádné karbonové díly\, oblečení dobové\, přilby doporučené\, mohou být i páskové. Kontrola bude provedena na startu a v cíli. Pokud nebude kolo odpovídat technickým podmínkám\, může se jezdec zúčastnit jízdy mimo soutěž v kategorii Eroica. Pořadatel může prominout drobné výjimky. \nTrasa: Vítkovice\, Zábřeh\, Proskovice\, Košatka\, Albrechtičky\, Kunín\, Suchdol\, Mankovice\, Odry. Následuje stoupání serpentinami na Dobešov. Od Dobešova budeme pokračovat po hřebeni s krásnými výhledy a odbočíme vlevo do Potštátu. Ostatní\, kterým postačí\, že Olomouc v dáli zahlédli\, odbočí vpravo na Fulnek. Kdo se bude chtít vyhnout stoupání na Dobešov\, může odbočit na Fulnek už v Odrách. Ostatní pokračují přes Potštát na Olomouc. Obrátka je u první cedule OLOMOUC. Zde také proběhne focení jezdců. Na zpáteční cestě se zastavíme v Daskabátech v hostinci U Matýska na guláš. Zpáteční trasa od Potštátu povede rovně na Fulnek. Z Fulneku na Bílovec a Albrechtice. Z Albrechtic pojedeme zkratkou na Jistebník. Z Jistebníku přes Košatku\, Proskovice\, Novou Bělou kolem Milky do cíle na hřišti v Hrabové. Každý z účastníků si může trasu zkrátit a připojit se k účastníkům na zpáteční trase\, nebo jízdu ukončit podle svých možností dříve. \nCíl: hřiště Sokolu Hrabová\, předpokládaný příjezd v 18:00 Vítězem bude symbolicky vyhlášen ten\, kdo ujede nejdelší vzdálenost. Pokud více účastníků ujede stejnou trať\, nebude vítěz vyhlášen\, zvítězí každý\, kdo dojede do cíle. \nCeny: dobrý pocit z dobře stráveného dne \nPřihlášky: posílejte na pavel.zizka@seznam.cz do 23.7. \nV přihlášce uveďte jméno\, rok narození\, klub\, značku\, vybavení a rok výroby kola\n				 \n\n		\n		\n			\n				\n			\n			\n				\n			\n			\n				\n			\n			\n				\n			\n			\n				\n			\n				\n				dav\n				\n			\n				\n			\n				\n				Bufet\, občerstvení Kozlov\n				\n			\n				\n			\n				\n				Bufet\, občerstvení Kozlov\n				\n			\n				\n			\n				\n				Bufet\, občerstvení\n				\n			\n				\n			\n				\n				Bufet\, občerstvení\n				\n			\n				\n			\n				\n				Bufet\, občerstvení Dobešov\n				\n			\n				\n			\n				\n				Bufet\, občerstvení Dobešov\n				\n			\n				\n			\n				\n				Bufet\, občerstvení Dobešov\n				\n			\n				\n			\n				\n				Bufet\, občerstvení Dobešov\n				\n			\n				\n			\n				\n				Bufet\, občerstvení Dobešov\n				\n			\n				\n			\n				\n				Bufet\, občerstvení Dobešov\n				\n			\n				\n			\n				\n				Bufet\, občerstvení Dobešov\n				\n			\n				\n			\n				\n				dav\n				\n			\n				\n			\n				\n				dav\n				\n			\n				\n			\n				\n				dav
URL:https://www.kcvhrabova.cz/akce/3-rocnik-jizday-ostrava-olomouc-ostrava/
ORGANIZER;CN="Pavel %C5%BDi%C5%BEka":MAILTO:pavel.zizka@seznam.cz
END:VEVENT
END:VCALENDAR